BEGIN:VCALENDAR
VERSION:2.0
PRODID:-//Stichting Kleur in Cultuur - ECPv6.15.20//NONSGML v1.0//EN
CALSCALE:GREGORIAN
METHOD:PUBLISH
X-WR-CALNAME:Stichting Kleur in Cultuur
X-ORIGINAL-URL:https://kleurincultuur.com
X-WR-CALDESC:Evenementen voor Stichting Kleur in Cultuur
REFRESH-INTERVAL;VALUE=DURATION:PT1H
X-Robots-Tag:noindex
X-PUBLISHED-TTL:PT1H
BEGIN:VTIMEZONE
TZID:Europe/Amsterdam
BEGIN:DAYLIGHT
TZOFFSETFROM:+0100
TZOFFSETTO:+0200
TZNAME:CEST
DTSTART:20250330T010000
END:DAYLIGHT
BEGIN:STANDARD
TZOFFSETFROM:+0200
TZOFFSETTO:+0100
TZNAME:CET
DTSTART:20251026T010000
END:STANDARD
BEGIN:DAYLIGHT
TZOFFSETFROM:+0100
TZOFFSETTO:+0200
TZNAME:CEST
DTSTART:20260329T010000
END:DAYLIGHT
BEGIN:STANDARD
TZOFFSETFROM:+0200
TZOFFSETTO:+0100
TZNAME:CET
DTSTART:20261025T010000
END:STANDARD
BEGIN:DAYLIGHT
TZOFFSETFROM:+0100
TZOFFSETTO:+0200
TZNAME:CEST
DTSTART:20270328T010000
END:DAYLIGHT
BEGIN:STANDARD
TZOFFSETFROM:+0200
TZOFFSETTO:+0100
TZNAME:CET
DTSTART:20271031T010000
END:STANDARD
END:VTIMEZONE
BEGIN:VEVENT
DTSTART;TZID=Europe/Amsterdam:20260608T143000
DTEND;TZID=Europe/Amsterdam:20260608T151500
DTSTAMP:20260419T194052
CREATED:20260106T121345Z
LAST-MODIFIED:20260409T122044Z
UID:10016558-1780929000-1780931700@kleurincultuur.com
SUMMARY:Workshop - Dans
DESCRIPTION:Kom gezellig meedansen! Onder begeleiding leer je de leukste dansmoves. Lijkt het jou leuk om iets nieuws te leren of wil je juist je dansmoves verbeteren? Doe dan mee met deze workshop! \nLeeftijd: 4 t/m 7\nLocatie: Corrosia\nTijd: 14:30 – 15:15\nKosten: €1\,- per keer\nAanmelden: mail naar kramautar@deschoor.nl \nMaandagmiddag:\n12\, 29\, 26 januari\n2\, 9\, 16\, 23 februari\n2\, 9\, 16\, 23\, 30 maart\n13 april\n11\, 18 mei\n1\, 8\, 15\, 22\, 29 juni \n4 juli
URL:https://kleurincultuur.com/agenda/workshop-dans-11/2026-06-08/
LOCATION:Corrosia\, Markt 43\, Almere\, Flevoland\, 1354 AP
ATTACH;FMTTYPE=image/png:https://kleurincultuur.com/wp-content/uploads/2025/09/1.-37.png
END:VEVENT
BEGIN:VEVENT
DTSTART;TZID=Europe/Amsterdam:20260608T150000
DTEND;TZID=Europe/Amsterdam:20260608T170000
DTSTAMP:20260419T194052
CREATED:20260324T092326Z
LAST-MODIFIED:20260324T092326Z
UID:10016774-1780930800-1780938000@kleurincultuur.com
SUMMARY:Workshop - Koken
DESCRIPTION:Hou jij van lekker eten? In deze workshop ga je zelf lekkere maaltijden maken en ontdek je hoe de Schijf van 5 je helpt om gezond te koken. Kom gezellig meedoen en ga creatief aan de slag met verse ingrediënten! \n\n\nLeeftijd: 8 t/m 13\nLocatie: Buurtcentrum De Cartoon\nTijd: 15:00 – 17:00\nKosten: €2\,- per keer\nAanmelden: via Gwen\, gclaasz@deschoor.nl \n\nMaandagmiddag\n30 maart\n11\, 18 mei\n1\, 8 juni
URL:https://kleurincultuur.com/agenda/workshop-koken-5/2026-06-08/
LOCATION:Buurtcentrum de Cartoon – Stripheldenbuurt\, Gerrit Th. Rotmanlaan 28\, Almere\, Flevoland\, 1336 BA
ATTACH;FMTTYPE=image/png:https://kleurincultuur.com/wp-content/uploads/2025/05/1.-11.png
END:VEVENT
BEGIN:VEVENT
DTSTART;TZID=Europe/Amsterdam:20260608T160000
DTEND;TZID=Europe/Amsterdam:20260608T180000
DTSTAMP:20260419T194052
CREATED:20260330T091047Z
LAST-MODIFIED:20260416T142827Z
UID:10016792-1780934400-1780941600@kleurincultuur.com
SUMMARY:Fashion/Haken - Workshop (SpiceRack)
DESCRIPTION:Zin om iets creatiefs te doen en met iets unieks naar huis te gaan? In deze workshop leer je stap voor stap hoe je granny squares haakt en hoe je deze samenvoegt tot een eigen totebag. Je werkt met verschillende kleuren en steken en ontdekt hoe losse haakwerkjes één geheel worden. \nHeb je al wat haakervaring? Dan is er volop ruimte om te experimenteren en jezelf extra uit te dagen. De totebag wordt afgewerkt in het naaiatelier van Muziekwijk\, waar je werkt met echte naaimachines. \nLeeftijd: 14 – 18 jaar\nLocatie: Kunstplek Station Muziekwijk\nTijd: 16:00 – 18:00\nDeelnemers: max 8\nAanmelden: via: https://salty.stager.co/shop/default/events/111651397  \nMaandagmiddag\n18\, 25 mei\n1\, 8\, 15 juni
URL:https://kleurincultuur.com/agenda/fashion-haken-workshop-spicerack/2026-06-08/
LOCATION:Kunstplek Muziekwijk\, Strawinskypad 100 (onder NS Station Muziekwijk)\, Almere\, Flevoland\, 1323 PZ
ATTACH;FMTTYPE=image/png:https://kleurincultuur.com/wp-content/uploads/2026/03/1.-88.png
END:VEVENT
BEGIN:VEVENT
DTSTART;TZID=Europe/Amsterdam:20260610T123000
DTEND;TZID=Europe/Amsterdam:20260610T150000
DTSTAMP:20260419T194052
CREATED:20260402T091409Z
LAST-MODIFIED:20260402T091409Z
UID:10016799-1781094600-1781103600@kleurincultuur.com
SUMMARY:Workshop - Crea
DESCRIPTION:In deze twee creatieve workshops ga je experimenteren met allerlei materialen en technieken. Stap voor stap ontdek je nieuwe mogelijkheden en maak je je eigen unieke kunstwerk. Doe je mee? \nLeeftijd: 4 t/m 13 (onder 7 jaar met begeleiding ouder)\nLocatie: buurtcentrum de Cartoon\nTijd: 12:30 – 15:00\nKosten: €1\,00 per keer\nAanmelden: mail naar gclaasz@deschoor.nl \nWoensdagmiddag\n10 juni Buitenspeeldag\n1 juli
URL:https://kleurincultuur.com/agenda/workshop-crea-15/2026-06-10/
LOCATION:Buurtcentrum de Cartoon – Stripheldenbuurt\, Gerrit Th. Rotmanlaan 28\, Almere\, Flevoland\, 1336 BA
ATTACH;FMTTYPE=image/png:https://kleurincultuur.com/wp-content/uploads/2025/02/1.-9.png
END:VEVENT
BEGIN:VEVENT
DTSTART;TZID=Europe/Amsterdam:20260611T144500
DTEND;TZID=Europe/Amsterdam:20260611T144500
DTSTAMP:20260419T194052
CREATED:20260409T083009Z
LAST-MODIFIED:20260416T142253Z
UID:10016819-1781189100-1781189100@kleurincultuur.com
SUMMARY:Rap Workshop - (SpiceRack)
DESCRIPTION:Ben jij gek op woorden\, rijmen en muziek en wil je leren hoe je jezelf kunt uitdrukken met rap? Dan is deze rap workshop iets voor jou.\nOnder begeleiding van artiest Tissan Ahmed leer je de basis van schrijven\, flow en performance. Je gaat zelf aan de slag met het maken van een eigen tekst. De workshop is geschikt voor beginners. Ervaring is niet nodig\, alleen jouw woorden en jouw stijl! \nTissan (T-shawn) is een artiest die zich focust op zang\, songwriting\, rap en productie van beats. Hij mixt de werelden van hiphop\, electronic\, spokenword\, jazz\, soul en wereldmuziek.\nMet deze veelzijdige achtergrond wilt hij jou meegeven wat voor magie er kan ontstaan als je je stem opent en je ervaring met andere mensen deelt d.m.v geluid en woorden. Tissan’s missie is om je dichterbij je persoonlijkheid te laten komen en meer vorm te geven aan jouw stijl en karakter.
URL:https://kleurincultuur.com/agenda/rap-workshop-spicerack/2026-06-11/
LOCATION:Corrosia\, Markt 43\, Almere\, Flevoland\, 1354 AP
ATTACH;FMTTYPE=image/png:https://kleurincultuur.com/wp-content/uploads/2026/04/1.png
END:VEVENT
BEGIN:VEVENT
DTSTART;TZID=Europe/Amsterdam:20260611T153000
DTEND;TZID=Europe/Amsterdam:20260611T163000
DTSTAMP:20260419T194052
CREATED:20260113T131424Z
LAST-MODIFIED:20260113T131424Z
UID:10016672-1781191800-1781195400@kleurincultuur.com
SUMMARY:Workshop - Crea
DESCRIPTION:Tijdens deze creatieve workshop ga je experimenteren met allerlei materialen en technieken. Stap voor stap ontdek je nieuwe mogelijkheden en maak je je eigen unieke kunstwerk. Onder begeleiding van kunstvakdocent Monique tover jij jouw ideeën om tot iets moois. Doe je mee? \nLeeftijd: 8 t/12\nLocatie: OBS de Archipel\, Maldivenweg 45\nTijd: 15:30 – 16:30\nKosten: €1\,- per keer\nAanmelden: via Gwen\, gclaasz@deschoor.nl \nDonderdagmiddag:\n29 januari\n12 februari\n5\, 19 maart\n2\, 16 april\n7\, 28 mei\n11\, 25 juni
URL:https://kleurincultuur.com/agenda/workshop-crea-12/2026-06-11/
LOCATION:Maldivenweg 45 (OBS De Archipel)\, Maldivenweg 45 (OBS De Archipel)\, Almere\, Regenboogbuurt\, 1339 PP
ATTACH;FMTTYPE=image/png:https://kleurincultuur.com/wp-content/uploads/2025/10/1.-56.png
END:VEVENT
BEGIN:VEVENT
DTSTART;TZID=Europe/Amsterdam:20260611T160000
DTEND;TZID=Europe/Amsterdam:20260611T180000
DTSTAMP:20260419T194052
CREATED:20260330T092133Z
LAST-MODIFIED:20260416T142113Z
UID:10016795-1781193600-1781200800@kleurincultuur.com
SUMMARY:Fashion - Workshop (SpiceRack)
DESCRIPTION:Heb jij interesse in fashion en wil je leren naaien\, ontwerpen of kleding customizen? Dan zijn deze fashionworkshops iets voor jou. Onder begeleiding ga je creatief aan de slag en leer je stap voor stap de basis van mode\, ontwerp en het maken van je eigen items. De workshops zijn geschikt voor beginners\, ervaring is niet nodig\, alleen jouw ideeën en stijl! \nLeeftijd: 14 – 18 jaar\nLocatie: Station Muziekwijk\, achter in de Stationhuiskamer\nTijd: 16:00 – 18:00\nDeelnemers: max 8\nAanmelden: via: https://salty.stager.co/shop/default/events/111651417 \nDonderdagmiddag\n4\, 11\, 18\, 25 juni
URL:https://kleurincultuur.com/agenda/fashion-workshop-spicerack-2/2026-06-11/
LOCATION:Kunstplek Muziekwijk\, Strawinskypad 100 (onder NS Station Muziekwijk)\, Almere\, Flevoland\, 1323 PZ
ATTACH;FMTTYPE=image/png:https://kleurincultuur.com/wp-content/uploads/2026/03/1.-87.png
END:VEVENT
BEGIN:VEVENT
DTSTART;TZID=Europe/Amsterdam:20260612T144500
DTEND;TZID=Europe/Amsterdam:20260612T161500
DTSTAMP:20260419T194052
CREATED:20260326T103400Z
LAST-MODIFIED:20260326T103400Z
UID:10016783-1781275500-1781280900@kleurincultuur.com
SUMMARY:Workshop - Crea
DESCRIPTION:Tijdens deze workshop ga je aan de slag met jouw creativiteit. Met verschillende technieken en materialen ga jij aan het werk en ontdek je de kunstenaar in jezelf! Onder begeleiding van kunstdocent Cherique maak jij straks de mooiste creatie. Doe jij ook mee? \n\nLeeftijd: 4 t/m 7\nTijd: 14:45 – 16:15\nLocatie: de Zevensprong\nKosten: gratis\nAanmelden: mail naar sjans@deschoor.nl of WhatsApp Sonja: 06 34255000 \n\n\nVrijdagmiddag:\n22\, 29 mei\n5\, 12 juni
URL:https://kleurincultuur.com/agenda/workshop-crea-14/2026-06-12/
LOCATION:OBS De Zevensprong\, Danslaan 74\, Almere\, Flevoland\, 1326 PL\, Nederland
ATTACH;FMTTYPE=image/png:https://kleurincultuur.com/wp-content/uploads/2025/09/1.-34.png
END:VEVENT
BEGIN:VEVENT
DTSTART;TZID=Europe/Amsterdam:20260613T140000
DTEND;TZID=Europe/Amsterdam:20260613T160000
DTSTAMP:20260419T194052
CREATED:20260416T130424Z
LAST-MODIFIED:20260416T130424Z
UID:10016815-1781359200-1781366400@kleurincultuur.com
SUMMARY:Workshop - Graffiti
DESCRIPTION:Benieuwd hoe je met een spuitbus de vetste artworks maakt?Tijdens deze graffitiworkshops maken kinderen en jongeren op een leuke en toegankelijke manier kennis met graffiti en street art. Onder begeleiding leren zij verschillende technieken en ontdekken ze hoe ze hun eigen creativiteit kunnen omzetten in een uniek kunstwerk. \nTijdens de workshops is er ruimte om te experimenteren met vormen\, kleuren\, letters en ontwerpen. De deelnemers gaan aan de slag met schetsen\, het ontwikkelen van een eigen stijl en het maken van creatieve ontwerpen\, bijvoorbeeld op papier of op een totebag. Zo draait het niet alleen om graffiti spuiten\, maar ook om het hele creatieve proces daarachter. \nDe workshops zijn laagdrempelig opgezet en geschikt voor iedereen vanaf 8 jaar. Ervaring is niet nodig: zowel beginners als kinderen die al graag tekenen of creatief bezig zijn\, zijn van harte welkom. Plezier\, ontdekken en jezelf uitdrukken staan centraal. \nDeelname is gratis en aanmelden is niet nodig. Kinderen en jongeren kunnen gewoon binnenlopen en meedoen. \nPraktische informatieLocatie: Kunst=Leuk – Citadel 22Data: zaterdag 2\, 9\, 16\, 23 en 30 mei & 13 juniTijd: 14:00 – 16:00 uurLeeftijd: vanaf 8 jaarKosten: gratisAanmelden: niet nodig\, vrije inloop \nEen mooie kans voor kinderen en jongeren om creatief bezig te zijn\, nieuwe technieken te leren en kennis te maken met de wereld van graffiti.
URL:https://kleurincultuur.com/agenda/workshop-graffiti-3/2026-06-13/
LOCATION:Kunst = Leuk\, Citadel 22\, Almere\, Flevoland\, 1315VL\, Nederland
ATTACH;FMTTYPE=image/png:https://kleurincultuur.com/wp-content/uploads/2026/04/Graf-web.png
END:VEVENT
BEGIN:VEVENT
DTSTART;TZID=Europe/Amsterdam:20260615T141400
DTEND;TZID=Europe/Amsterdam:20260615T154500
DTSTAMP:20260419T194052
CREATED:20260106T145653Z
LAST-MODIFIED:20260106T145839Z
UID:10016620-1781532840-1781538300@kleurincultuur.com
SUMMARY:Workshop - Crea atelier
DESCRIPTION:Kom lekker creatief aan de slag tijdens de workshop Crea atelier! Met verschillende materialen en technieken maak je de mooiste kunstwerken. Laat je fantasie de vrije loop en ontdek wat jij allemaal kunt maken. Doe je mee? \nGroep: 3 t/m 8\nLocatie: Buurtcentrum Filmwijk\nTijd: 14:15 – 15:45\nKosten: €1\,- per keer\nAanmelden: mail naar sjans@deschoor.nl \nMaandagmiddag:\n12\, 19\, 26 januari\n2\, 9\, 16 februari\n2\, 9\, 23\, 30 maart\n13\, 20 april\n11\, 18 mei\n1\, 8\, 15\, 22 juni
URL:https://kleurincultuur.com/agenda/workshop-createlier-5/2026-06-15/
LOCATION:Kunstplek Filmwijk\, Buurtcentrum Filmwijk\, Walt Disneyplantsoen\, Almere\, Flevoland\, 1325 SX
ATTACH;FMTTYPE=image/png:https://kleurincultuur.com/wp-content/uploads/2025/07/1.-15.png
END:VEVENT
BEGIN:VEVENT
DTSTART;TZID=Europe/Amsterdam:20260615T143000
DTEND;TZID=Europe/Amsterdam:20260615T151500
DTSTAMP:20260419T194052
CREATED:20260106T121345Z
LAST-MODIFIED:20260409T122044Z
UID:10016559-1781533800-1781536500@kleurincultuur.com
SUMMARY:Workshop - Dans
DESCRIPTION:Kom gezellig meedansen! Onder begeleiding leer je de leukste dansmoves. Lijkt het jou leuk om iets nieuws te leren of wil je juist je dansmoves verbeteren? Doe dan mee met deze workshop! \nLeeftijd: 4 t/m 7\nLocatie: Corrosia\nTijd: 14:30 – 15:15\nKosten: €1\,- per keer\nAanmelden: mail naar kramautar@deschoor.nl \nMaandagmiddag:\n12\, 29\, 26 januari\n2\, 9\, 16\, 23 februari\n2\, 9\, 16\, 23\, 30 maart\n13 april\n11\, 18 mei\n1\, 8\, 15\, 22\, 29 juni \n4 juli
URL:https://kleurincultuur.com/agenda/workshop-dans-11/2026-06-15/
LOCATION:Corrosia\, Markt 43\, Almere\, Flevoland\, 1354 AP
ATTACH;FMTTYPE=image/png:https://kleurincultuur.com/wp-content/uploads/2025/09/1.-37.png
END:VEVENT
BEGIN:VEVENT
DTSTART;TZID=Europe/Amsterdam:20260615T160000
DTEND;TZID=Europe/Amsterdam:20260615T180000
DTSTAMP:20260419T194052
CREATED:20260330T091047Z
LAST-MODIFIED:20260416T142827Z
UID:10016793-1781539200-1781546400@kleurincultuur.com
SUMMARY:Fashion/Haken - Workshop (SpiceRack)
DESCRIPTION:Zin om iets creatiefs te doen en met iets unieks naar huis te gaan? In deze workshop leer je stap voor stap hoe je granny squares haakt en hoe je deze samenvoegt tot een eigen totebag. Je werkt met verschillende kleuren en steken en ontdekt hoe losse haakwerkjes één geheel worden. \nHeb je al wat haakervaring? Dan is er volop ruimte om te experimenteren en jezelf extra uit te dagen. De totebag wordt afgewerkt in het naaiatelier van Muziekwijk\, waar je werkt met echte naaimachines. \nLeeftijd: 14 – 18 jaar\nLocatie: Kunstplek Station Muziekwijk\nTijd: 16:00 – 18:00\nDeelnemers: max 8\nAanmelden: via: https://salty.stager.co/shop/default/events/111651397  \nMaandagmiddag\n18\, 25 mei\n1\, 8\, 15 juni
URL:https://kleurincultuur.com/agenda/fashion-haken-workshop-spicerack/2026-06-15/
LOCATION:Kunstplek Muziekwijk\, Strawinskypad 100 (onder NS Station Muziekwijk)\, Almere\, Flevoland\, 1323 PZ
ATTACH;FMTTYPE=image/png:https://kleurincultuur.com/wp-content/uploads/2026/03/1.-88.png
END:VEVENT
BEGIN:VEVENT
DTSTART;TZID=Europe/Amsterdam:20260618T144500
DTEND;TZID=Europe/Amsterdam:20260618T164500
DTSTAMP:20260419T194052
CREATED:20260409T143155Z
LAST-MODIFIED:20260416T141811Z
UID:10016807-1781793900-1781801100@kleurincultuur.com
SUMMARY:Sing and Songwriting - Workshop (SpiceRack)
DESCRIPTION:Ben jij klaar om je eigen nummers te schrijven en je stem te ontdekken? In deze reeks van 3 lessen helpt Gitta de Ridder je op een creatieve en speelse manier met zingen én songwriting. Je leert hoe je melodieën en teksten laat samenwerken\, hoe je gevoel in je liedjes legt en hoe je je eigen stijl vindt. Samen maken we muziek die echt van jou is! \nGitta de Ridder is een Nederlands-Engelse singer-songwriter. Na tien jaar in Londen te hebben gewoond\, keerde zij in 2018 terug naar Flevoland\, waar zij is opgegroeid. Geïnspireerd door moderne en traditionele folk\, gecombineerd met sterke popmelodieën\, schrijft zij eerlijke liedjes met diepgang. Met meerdere albums op haar naam is haar muziek nationaal en internationaal te horen geweest. In haar workshops neemt Gitta jongeren mee in het schrijven en zingen van eigen nummers\, met aandacht voor expressie\, eigenheid en plezier in muziek.
URL:https://kleurincultuur.com/agenda/sing-and-songwriting-workshop-spicerack/2026-06-18/
LOCATION:Corrosia\, Markt 43\, Almere\, Flevoland\, 1354 AP
ATTACH;FMTTYPE=image/png:https://kleurincultuur.com/wp-content/uploads/2026/04/1.-4.png
END:VEVENT
BEGIN:VEVENT
DTSTART;TZID=Europe/Amsterdam:20260618T153000
DTEND;TZID=Europe/Amsterdam:20260618T163000
DTSTAMP:20260419T194052
CREATED:20260113T093014Z
LAST-MODIFIED:20260113T093014Z
UID:10016657-1781796600-1781800200@kleurincultuur.com
SUMMARY:Workshop - Crea
DESCRIPTION:In deze creatieve workshop ga je experimenteren met allerlei materialen en technieken. Stap voor stap ontdek je nieuwe mogelijkheden en maak je je eigen unieke kunstwerk. Onder begeleiding van kunstvakdocent Monique tover jij jouw ideeën om tot iets moois. Doe je mee? \nLeeftijd: 4 t/m 7\nLocatie: OBS de Archipel\, Maldivenweg 45\nTijd: 15:30 – 16:30\nKosten: €1\,- per keer\nAanmelden: via Gwen\, gclaasz@deschoor.nl \nDonderdagmiddag:\n22 januari\n5\, 19 februari\n12\, 26 maart\n9\, 23 april\n21 mei\n4\, 18 juni
URL:https://kleurincultuur.com/agenda/workshop-crea-11/2026-06-18/
LOCATION:Maldivenweg 45 (OBS De Archipel)\, Maldivenweg 45 (OBS De Archipel)\, Almere\, Regenboogbuurt\, 1339 PP
ATTACH;FMTTYPE=image/png:https://kleurincultuur.com/wp-content/uploads/2026/01/1.-73.png
END:VEVENT
BEGIN:VEVENT
DTSTART;TZID=Europe/Amsterdam:20260618T160000
DTEND;TZID=Europe/Amsterdam:20260618T180000
DTSTAMP:20260419T194052
CREATED:20260330T092133Z
LAST-MODIFIED:20260416T142113Z
UID:10016796-1781798400-1781805600@kleurincultuur.com
SUMMARY:Fashion - Workshop (SpiceRack)
DESCRIPTION:Heb jij interesse in fashion en wil je leren naaien\, ontwerpen of kleding customizen? Dan zijn deze fashionworkshops iets voor jou. Onder begeleiding ga je creatief aan de slag en leer je stap voor stap de basis van mode\, ontwerp en het maken van je eigen items. De workshops zijn geschikt voor beginners\, ervaring is niet nodig\, alleen jouw ideeën en stijl! \nLeeftijd: 14 – 18 jaar\nLocatie: Station Muziekwijk\, achter in de Stationhuiskamer\nTijd: 16:00 – 18:00\nDeelnemers: max 8\nAanmelden: via: https://salty.stager.co/shop/default/events/111651417 \nDonderdagmiddag\n4\, 11\, 18\, 25 juni
URL:https://kleurincultuur.com/agenda/fashion-workshop-spicerack-2/2026-06-18/
LOCATION:Kunstplek Muziekwijk\, Strawinskypad 100 (onder NS Station Muziekwijk)\, Almere\, Flevoland\, 1323 PZ
ATTACH;FMTTYPE=image/png:https://kleurincultuur.com/wp-content/uploads/2026/03/1.-87.png
END:VEVENT
BEGIN:VEVENT
DTSTART;TZID=Europe/Amsterdam:20260622T141400
DTEND;TZID=Europe/Amsterdam:20260622T154500
DTSTAMP:20260419T194052
CREATED:20260106T145653Z
LAST-MODIFIED:20260106T145839Z
UID:10016621-1782137640-1782143100@kleurincultuur.com
SUMMARY:Workshop - Crea atelier
DESCRIPTION:Kom lekker creatief aan de slag tijdens de workshop Crea atelier! Met verschillende materialen en technieken maak je de mooiste kunstwerken. Laat je fantasie de vrije loop en ontdek wat jij allemaal kunt maken. Doe je mee? \nGroep: 3 t/m 8\nLocatie: Buurtcentrum Filmwijk\nTijd: 14:15 – 15:45\nKosten: €1\,- per keer\nAanmelden: mail naar sjans@deschoor.nl \nMaandagmiddag:\n12\, 19\, 26 januari\n2\, 9\, 16 februari\n2\, 9\, 23\, 30 maart\n13\, 20 april\n11\, 18 mei\n1\, 8\, 15\, 22 juni
URL:https://kleurincultuur.com/agenda/workshop-createlier-5/2026-06-22/
LOCATION:Kunstplek Filmwijk\, Buurtcentrum Filmwijk\, Walt Disneyplantsoen\, Almere\, Flevoland\, 1325 SX
ATTACH;FMTTYPE=image/png:https://kleurincultuur.com/wp-content/uploads/2025/07/1.-15.png
END:VEVENT
BEGIN:VEVENT
DTSTART;TZID=Europe/Amsterdam:20260622T143000
DTEND;TZID=Europe/Amsterdam:20260622T151500
DTSTAMP:20260419T194052
CREATED:20260106T121345Z
LAST-MODIFIED:20260409T122044Z
UID:10016560-1782138600-1782141300@kleurincultuur.com
SUMMARY:Workshop - Dans
DESCRIPTION:Kom gezellig meedansen! Onder begeleiding leer je de leukste dansmoves. Lijkt het jou leuk om iets nieuws te leren of wil je juist je dansmoves verbeteren? Doe dan mee met deze workshop! \nLeeftijd: 4 t/m 7\nLocatie: Corrosia\nTijd: 14:30 – 15:15\nKosten: €1\,- per keer\nAanmelden: mail naar kramautar@deschoor.nl \nMaandagmiddag:\n12\, 29\, 26 januari\n2\, 9\, 16\, 23 februari\n2\, 9\, 16\, 23\, 30 maart\n13 april\n11\, 18 mei\n1\, 8\, 15\, 22\, 29 juni \n4 juli
URL:https://kleurincultuur.com/agenda/workshop-dans-11/2026-06-22/
LOCATION:Corrosia\, Markt 43\, Almere\, Flevoland\, 1354 AP
ATTACH;FMTTYPE=image/png:https://kleurincultuur.com/wp-content/uploads/2025/09/1.-37.png
END:VEVENT
BEGIN:VEVENT
DTSTART;TZID=Europe/Amsterdam:20260625T144500
DTEND;TZID=Europe/Amsterdam:20260625T164500
DTSTAMP:20260419T194052
CREATED:20260409T143155Z
LAST-MODIFIED:20260416T141811Z
UID:10016808-1782398700-1782405900@kleurincultuur.com
SUMMARY:Sing and Songwriting - Workshop (SpiceRack)
DESCRIPTION:Ben jij klaar om je eigen nummers te schrijven en je stem te ontdekken? In deze reeks van 3 lessen helpt Gitta de Ridder je op een creatieve en speelse manier met zingen én songwriting. Je leert hoe je melodieën en teksten laat samenwerken\, hoe je gevoel in je liedjes legt en hoe je je eigen stijl vindt. Samen maken we muziek die echt van jou is! \nGitta de Ridder is een Nederlands-Engelse singer-songwriter. Na tien jaar in Londen te hebben gewoond\, keerde zij in 2018 terug naar Flevoland\, waar zij is opgegroeid. Geïnspireerd door moderne en traditionele folk\, gecombineerd met sterke popmelodieën\, schrijft zij eerlijke liedjes met diepgang. Met meerdere albums op haar naam is haar muziek nationaal en internationaal te horen geweest. In haar workshops neemt Gitta jongeren mee in het schrijven en zingen van eigen nummers\, met aandacht voor expressie\, eigenheid en plezier in muziek.
URL:https://kleurincultuur.com/agenda/sing-and-songwriting-workshop-spicerack/2026-06-25/
LOCATION:Corrosia\, Markt 43\, Almere\, Flevoland\, 1354 AP
ATTACH;FMTTYPE=image/png:https://kleurincultuur.com/wp-content/uploads/2026/04/1.-4.png
END:VEVENT
BEGIN:VEVENT
DTSTART;TZID=Europe/Amsterdam:20260625T153000
DTEND;TZID=Europe/Amsterdam:20260625T163000
DTSTAMP:20260419T194052
CREATED:20260113T131424Z
LAST-MODIFIED:20260113T131424Z
UID:10016673-1782401400-1782405000@kleurincultuur.com
SUMMARY:Workshop - Crea
DESCRIPTION:Tijdens deze creatieve workshop ga je experimenteren met allerlei materialen en technieken. Stap voor stap ontdek je nieuwe mogelijkheden en maak je je eigen unieke kunstwerk. Onder begeleiding van kunstvakdocent Monique tover jij jouw ideeën om tot iets moois. Doe je mee? \nLeeftijd: 8 t/12\nLocatie: OBS de Archipel\, Maldivenweg 45\nTijd: 15:30 – 16:30\nKosten: €1\,- per keer\nAanmelden: via Gwen\, gclaasz@deschoor.nl \nDonderdagmiddag:\n29 januari\n12 februari\n5\, 19 maart\n2\, 16 april\n7\, 28 mei\n11\, 25 juni
URL:https://kleurincultuur.com/agenda/workshop-crea-12/2026-06-25/
LOCATION:Maldivenweg 45 (OBS De Archipel)\, Maldivenweg 45 (OBS De Archipel)\, Almere\, Regenboogbuurt\, 1339 PP
ATTACH;FMTTYPE=image/png:https://kleurincultuur.com/wp-content/uploads/2025/10/1.-56.png
END:VEVENT
BEGIN:VEVENT
DTSTART;TZID=Europe/Amsterdam:20260625T160000
DTEND;TZID=Europe/Amsterdam:20260625T180000
DTSTAMP:20260419T194052
CREATED:20260330T092133Z
LAST-MODIFIED:20260416T142113Z
UID:10016797-1782403200-1782410400@kleurincultuur.com
SUMMARY:Fashion - Workshop (SpiceRack)
DESCRIPTION:Heb jij interesse in fashion en wil je leren naaien\, ontwerpen of kleding customizen? Dan zijn deze fashionworkshops iets voor jou. Onder begeleiding ga je creatief aan de slag en leer je stap voor stap de basis van mode\, ontwerp en het maken van je eigen items. De workshops zijn geschikt voor beginners\, ervaring is niet nodig\, alleen jouw ideeën en stijl! \nLeeftijd: 14 – 18 jaar\nLocatie: Station Muziekwijk\, achter in de Stationhuiskamer\nTijd: 16:00 – 18:00\nDeelnemers: max 8\nAanmelden: via: https://salty.stager.co/shop/default/events/111651417 \nDonderdagmiddag\n4\, 11\, 18\, 25 juni
URL:https://kleurincultuur.com/agenda/fashion-workshop-spicerack-2/2026-06-25/
LOCATION:Kunstplek Muziekwijk\, Strawinskypad 100 (onder NS Station Muziekwijk)\, Almere\, Flevoland\, 1323 PZ
ATTACH;FMTTYPE=image/png:https://kleurincultuur.com/wp-content/uploads/2026/03/1.-87.png
END:VEVENT
BEGIN:VEVENT
DTSTART;TZID=Europe/Amsterdam:20260629T143000
DTEND;TZID=Europe/Amsterdam:20260629T151500
DTSTAMP:20260419T194052
CREATED:20260106T121345Z
LAST-MODIFIED:20260409T122044Z
UID:10016561-1782743400-1782746100@kleurincultuur.com
SUMMARY:Workshop - Dans
DESCRIPTION:Kom gezellig meedansen! Onder begeleiding leer je de leukste dansmoves. Lijkt het jou leuk om iets nieuws te leren of wil je juist je dansmoves verbeteren? Doe dan mee met deze workshop! \nLeeftijd: 4 t/m 7\nLocatie: Corrosia\nTijd: 14:30 – 15:15\nKosten: €1\,- per keer\nAanmelden: mail naar kramautar@deschoor.nl \nMaandagmiddag:\n12\, 29\, 26 januari\n2\, 9\, 16\, 23 februari\n2\, 9\, 16\, 23\, 30 maart\n13 april\n11\, 18 mei\n1\, 8\, 15\, 22\, 29 juni \n4 juli
URL:https://kleurincultuur.com/agenda/workshop-dans-11/2026-06-29/
LOCATION:Corrosia\, Markt 43\, Almere\, Flevoland\, 1354 AP
ATTACH;FMTTYPE=image/png:https://kleurincultuur.com/wp-content/uploads/2025/09/1.-37.png
END:VEVENT
BEGIN:VEVENT
DTSTART;TZID=Europe/Amsterdam:20260701T123000
DTEND;TZID=Europe/Amsterdam:20260701T150000
DTSTAMP:20260419T194052
CREATED:20260402T091409Z
LAST-MODIFIED:20260402T091409Z
UID:10016800-1782909000-1782918000@kleurincultuur.com
SUMMARY:Workshop - Crea
DESCRIPTION:In deze twee creatieve workshops ga je experimenteren met allerlei materialen en technieken. Stap voor stap ontdek je nieuwe mogelijkheden en maak je je eigen unieke kunstwerk. Doe je mee? \nLeeftijd: 4 t/m 13 (onder 7 jaar met begeleiding ouder)\nLocatie: buurtcentrum de Cartoon\nTijd: 12:30 – 15:00\nKosten: €1\,00 per keer\nAanmelden: mail naar gclaasz@deschoor.nl \nWoensdagmiddag\n10 juni Buitenspeeldag\n1 juli
URL:https://kleurincultuur.com/agenda/workshop-crea-15/2026-07-01/
LOCATION:Buurtcentrum de Cartoon – Stripheldenbuurt\, Gerrit Th. Rotmanlaan 28\, Almere\, Flevoland\, 1336 BA
ATTACH;FMTTYPE=image/png:https://kleurincultuur.com/wp-content/uploads/2025/02/1.-9.png
END:VEVENT
BEGIN:VEVENT
DTSTART;TZID=Europe/Amsterdam:20260702T144500
DTEND;TZID=Europe/Amsterdam:20260702T164500
DTSTAMP:20260419T194052
CREATED:20260409T143155Z
LAST-MODIFIED:20260416T141811Z
UID:10016809-1783003500-1783010700@kleurincultuur.com
SUMMARY:Sing and Songwriting - Workshop (SpiceRack)
DESCRIPTION:Ben jij klaar om je eigen nummers te schrijven en je stem te ontdekken? In deze reeks van 3 lessen helpt Gitta de Ridder je op een creatieve en speelse manier met zingen én songwriting. Je leert hoe je melodieën en teksten laat samenwerken\, hoe je gevoel in je liedjes legt en hoe je je eigen stijl vindt. Samen maken we muziek die echt van jou is! \nGitta de Ridder is een Nederlands-Engelse singer-songwriter. Na tien jaar in Londen te hebben gewoond\, keerde zij in 2018 terug naar Flevoland\, waar zij is opgegroeid. Geïnspireerd door moderne en traditionele folk\, gecombineerd met sterke popmelodieën\, schrijft zij eerlijke liedjes met diepgang. Met meerdere albums op haar naam is haar muziek nationaal en internationaal te horen geweest. In haar workshops neemt Gitta jongeren mee in het schrijven en zingen van eigen nummers\, met aandacht voor expressie\, eigenheid en plezier in muziek.
URL:https://kleurincultuur.com/agenda/sing-and-songwriting-workshop-spicerack/2026-07-02/
LOCATION:Corrosia\, Markt 43\, Almere\, Flevoland\, 1354 AP
ATTACH;FMTTYPE=image/png:https://kleurincultuur.com/wp-content/uploads/2026/04/1.-4.png
END:VEVENT
BEGIN:VEVENT
DTSTART;TZID=Europe/Amsterdam:20260706T143000
DTEND;TZID=Europe/Amsterdam:20260706T151500
DTSTAMP:20260419T194052
CREATED:20260106T121345Z
LAST-MODIFIED:20260409T122044Z
UID:10016805-1783348200-1783350900@kleurincultuur.com
SUMMARY:Workshop - Dans
DESCRIPTION:Kom gezellig meedansen! Onder begeleiding leer je de leukste dansmoves. Lijkt het jou leuk om iets nieuws te leren of wil je juist je dansmoves verbeteren? Doe dan mee met deze workshop! \nLeeftijd: 4 t/m 7\nLocatie: Corrosia\nTijd: 14:30 – 15:15\nKosten: €1\,- per keer\nAanmelden: mail naar kramautar@deschoor.nl \nMaandagmiddag:\n12\, 29\, 26 januari\n2\, 9\, 16\, 23 februari\n2\, 9\, 16\, 23\, 30 maart\n13 april\n11\, 18 mei\n1\, 8\, 15\, 22\, 29 juni \n4 juli
URL:https://kleurincultuur.com/agenda/workshop-dans-11/2026-07-06/
LOCATION:Corrosia\, Markt 43\, Almere\, Flevoland\, 1354 AP
ATTACH;FMTTYPE=image/png:https://kleurincultuur.com/wp-content/uploads/2025/09/1.-37.png
END:VEVENT
END:VCALENDAR