BEGIN:VCALENDAR
VERSION:2.0
PRODID:-//Stichting Kleur in Cultuur - ECPv6.15.20//NONSGML v1.0//EN
CALSCALE:GREGORIAN
METHOD:PUBLISH
X-ORIGINAL-URL:https://kleurincultuur.com
X-WR-CALDESC:Evenementen voor Stichting Kleur in Cultuur
REFRESH-INTERVAL;VALUE=DURATION:PT1H
X-Robots-Tag:noindex
X-PUBLISHED-TTL:PT1H
BEGIN:VTIMEZONE
TZID:Europe/Amsterdam
BEGIN:DAYLIGHT
TZOFFSETFROM:+0100
TZOFFSETTO:+0200
TZNAME:CEST
DTSTART:20240331T010000
END:DAYLIGHT
BEGIN:STANDARD
TZOFFSETFROM:+0200
TZOFFSETTO:+0100
TZNAME:CET
DTSTART:20241027T010000
END:STANDARD
BEGIN:DAYLIGHT
TZOFFSETFROM:+0100
TZOFFSETTO:+0200
TZNAME:CEST
DTSTART:20250330T010000
END:DAYLIGHT
BEGIN:STANDARD
TZOFFSETFROM:+0200
TZOFFSETTO:+0100
TZNAME:CET
DTSTART:20251026T010000
END:STANDARD
BEGIN:DAYLIGHT
TZOFFSETFROM:+0100
TZOFFSETTO:+0200
TZNAME:CEST
DTSTART:20260329T010000
END:DAYLIGHT
BEGIN:STANDARD
TZOFFSETFROM:+0200
TZOFFSETTO:+0100
TZNAME:CET
DTSTART:20261025T010000
END:STANDARD
BEGIN:DAYLIGHT
TZOFFSETFROM:+0100
TZOFFSETTO:+0200
TZNAME:CEST
DTSTART:20270328T010000
END:DAYLIGHT
BEGIN:STANDARD
TZOFFSETFROM:+0200
TZOFFSETTO:+0100
TZNAME:CET
DTSTART:20271031T010000
END:STANDARD
END:VTIMEZONE
BEGIN:VEVENT
DTSTART;TZID=Europe/Amsterdam:20260325T150000
DTEND;TZID=Europe/Amsterdam:20260325T163000
DTSTAMP:20260420T024245
CREATED:20260106T144111Z
LAST-MODIFIED:20260115T094844Z
UID:10016638-1774450800-1774456200@kleurincultuur.com
SUMMARY:Workshop - Crea
DESCRIPTION:Tijdens deze workshop ga je aan de slag met jouw creativiteit. Met verschillende technieken en materialen ga jij aan het werk en ontdek je de kunstenaar in jezelf! Onder begeleiding van kunstvakdocent Cherique maak jij straks de mooiste creaties. Doe jij ook mee? \nIedere woensdag vanaf 14 januari\nLeeftijd: 6+\nTijd: 15:00 – 16:30\nKosten: gratis\nDeelnemers: max 10
URL:https://kleurincultuur.com/agenda/workshop-crea-5-2/2026-03-25/
LOCATION:De Veldhoek\, Deurnestraat 40 (De Veldhoek)\, Almere\, Flevoland\, 1324 XB\, Nederland
ATTACH;FMTTYPE=image/png:https://kleurincultuur.com/wp-content/uploads/2025/07/1.-24.png
END:VEVENT
BEGIN:VEVENT
DTSTART;TZID=Europe/Amsterdam:20260318T150000
DTEND;TZID=Europe/Amsterdam:20260318T163000
DTSTAMP:20260420T024245
CREATED:20260106T144111Z
LAST-MODIFIED:20260115T094844Z
UID:10016637-1773846000-1773851400@kleurincultuur.com
SUMMARY:Workshop - Crea
DESCRIPTION:Tijdens deze workshop ga je aan de slag met jouw creativiteit. Met verschillende technieken en materialen ga jij aan het werk en ontdek je de kunstenaar in jezelf! Onder begeleiding van kunstvakdocent Cherique maak jij straks de mooiste creaties. Doe jij ook mee? \nIedere woensdag vanaf 14 januari\nLeeftijd: 6+\nTijd: 15:00 – 16:30\nKosten: gratis\nDeelnemers: max 10
URL:https://kleurincultuur.com/agenda/workshop-crea-5-2/2026-03-18/
LOCATION:De Veldhoek\, Deurnestraat 40 (De Veldhoek)\, Almere\, Flevoland\, 1324 XB\, Nederland
ATTACH;FMTTYPE=image/png:https://kleurincultuur.com/wp-content/uploads/2025/07/1.-24.png
END:VEVENT
BEGIN:VEVENT
DTSTART;TZID=Europe/Amsterdam:20260311T150000
DTEND;TZID=Europe/Amsterdam:20260311T163000
DTSTAMP:20260420T024245
CREATED:20260106T144111Z
LAST-MODIFIED:20260115T094844Z
UID:10016636-1773241200-1773246600@kleurincultuur.com
SUMMARY:Workshop - Crea
DESCRIPTION:Tijdens deze workshop ga je aan de slag met jouw creativiteit. Met verschillende technieken en materialen ga jij aan het werk en ontdek je de kunstenaar in jezelf! Onder begeleiding van kunstvakdocent Cherique maak jij straks de mooiste creaties. Doe jij ook mee? \nIedere woensdag vanaf 14 januari\nLeeftijd: 6+\nTijd: 15:00 – 16:30\nKosten: gratis\nDeelnemers: max 10
URL:https://kleurincultuur.com/agenda/workshop-crea-5-2/2026-03-11/
LOCATION:De Veldhoek\, Deurnestraat 40 (De Veldhoek)\, Almere\, Flevoland\, 1324 XB\, Nederland
ATTACH;FMTTYPE=image/png:https://kleurincultuur.com/wp-content/uploads/2025/07/1.-24.png
END:VEVENT
BEGIN:VEVENT
DTSTART;TZID=Europe/Amsterdam:20260304T150000
DTEND;TZID=Europe/Amsterdam:20260304T163000
DTSTAMP:20260420T024245
CREATED:20260106T144111Z
LAST-MODIFIED:20260115T094844Z
UID:10016635-1772636400-1772641800@kleurincultuur.com
SUMMARY:Workshop - Crea
DESCRIPTION:Tijdens deze workshop ga je aan de slag met jouw creativiteit. Met verschillende technieken en materialen ga jij aan het werk en ontdek je de kunstenaar in jezelf! Onder begeleiding van kunstvakdocent Cherique maak jij straks de mooiste creaties. Doe jij ook mee? \nIedere woensdag vanaf 14 januari\nLeeftijd: 6+\nTijd: 15:00 – 16:30\nKosten: gratis\nDeelnemers: max 10
URL:https://kleurincultuur.com/agenda/workshop-crea-5-2/2026-03-04/
LOCATION:De Veldhoek\, Deurnestraat 40 (De Veldhoek)\, Almere\, Flevoland\, 1324 XB\, Nederland
ATTACH;FMTTYPE=image/png:https://kleurincultuur.com/wp-content/uploads/2025/07/1.-24.png
END:VEVENT
BEGIN:VEVENT
DTSTART;TZID=Europe/Amsterdam:20260225T150000
DTEND;TZID=Europe/Amsterdam:20260225T163000
DTSTAMP:20260420T024245
CREATED:20260106T144111Z
LAST-MODIFIED:20260115T094844Z
UID:10016634-1772031600-1772037000@kleurincultuur.com
SUMMARY:Workshop - Crea
DESCRIPTION:Tijdens deze workshop ga je aan de slag met jouw creativiteit. Met verschillende technieken en materialen ga jij aan het werk en ontdek je de kunstenaar in jezelf! Onder begeleiding van kunstvakdocent Cherique maak jij straks de mooiste creaties. Doe jij ook mee? \nIedere woensdag vanaf 14 januari\nLeeftijd: 6+\nTijd: 15:00 – 16:30\nKosten: gratis\nDeelnemers: max 10
URL:https://kleurincultuur.com/agenda/workshop-crea-5-2/2026-02-25/
LOCATION:De Veldhoek\, Deurnestraat 40 (De Veldhoek)\, Almere\, Flevoland\, 1324 XB\, Nederland
ATTACH;FMTTYPE=image/png:https://kleurincultuur.com/wp-content/uploads/2025/07/1.-24.png
END:VEVENT
BEGIN:VEVENT
DTSTART;TZID=Europe/Amsterdam:20260218T150000
DTEND;TZID=Europe/Amsterdam:20260218T163000
DTSTAMP:20260420T024245
CREATED:20260106T144111Z
LAST-MODIFIED:20260115T094844Z
UID:10016633-1771426800-1771432200@kleurincultuur.com
SUMMARY:Workshop - Crea
DESCRIPTION:Tijdens deze workshop ga je aan de slag met jouw creativiteit. Met verschillende technieken en materialen ga jij aan het werk en ontdek je de kunstenaar in jezelf! Onder begeleiding van kunstvakdocent Cherique maak jij straks de mooiste creaties. Doe jij ook mee? \nIedere woensdag vanaf 14 januari\nLeeftijd: 6+\nTijd: 15:00 – 16:30\nKosten: gratis\nDeelnemers: max 10
URL:https://kleurincultuur.com/agenda/workshop-crea-5-2/2026-02-18/
LOCATION:De Veldhoek\, Deurnestraat 40 (De Veldhoek)\, Almere\, Flevoland\, 1324 XB\, Nederland
ATTACH;FMTTYPE=image/png:https://kleurincultuur.com/wp-content/uploads/2025/07/1.-24.png
END:VEVENT
BEGIN:VEVENT
DTSTART;TZID=Europe/Amsterdam:20260211T150000
DTEND;TZID=Europe/Amsterdam:20260211T163000
DTSTAMP:20260420T024245
CREATED:20260106T144111Z
LAST-MODIFIED:20260115T094844Z
UID:10016632-1770822000-1770827400@kleurincultuur.com
SUMMARY:Workshop - Crea
DESCRIPTION:Tijdens deze workshop ga je aan de slag met jouw creativiteit. Met verschillende technieken en materialen ga jij aan het werk en ontdek je de kunstenaar in jezelf! Onder begeleiding van kunstvakdocent Cherique maak jij straks de mooiste creaties. Doe jij ook mee? \nIedere woensdag vanaf 14 januari\nLeeftijd: 6+\nTijd: 15:00 – 16:30\nKosten: gratis\nDeelnemers: max 10
URL:https://kleurincultuur.com/agenda/workshop-crea-5-2/2026-02-11/
LOCATION:De Veldhoek\, Deurnestraat 40 (De Veldhoek)\, Almere\, Flevoland\, 1324 XB\, Nederland
ATTACH;FMTTYPE=image/png:https://kleurincultuur.com/wp-content/uploads/2025/07/1.-24.png
END:VEVENT
BEGIN:VEVENT
DTSTART;TZID=Europe/Amsterdam:20260204T150000
DTEND;TZID=Europe/Amsterdam:20260204T163000
DTSTAMP:20260420T024245
CREATED:20260106T144111Z
LAST-MODIFIED:20260115T094844Z
UID:10016631-1770217200-1770222600@kleurincultuur.com
SUMMARY:Workshop - Crea
DESCRIPTION:Tijdens deze workshop ga je aan de slag met jouw creativiteit. Met verschillende technieken en materialen ga jij aan het werk en ontdek je de kunstenaar in jezelf! Onder begeleiding van kunstvakdocent Cherique maak jij straks de mooiste creaties. Doe jij ook mee? \nIedere woensdag vanaf 14 januari\nLeeftijd: 6+\nTijd: 15:00 – 16:30\nKosten: gratis\nDeelnemers: max 10
URL:https://kleurincultuur.com/agenda/workshop-crea-5-2/2026-02-04/
LOCATION:De Veldhoek\, Deurnestraat 40 (De Veldhoek)\, Almere\, Flevoland\, 1324 XB\, Nederland
ATTACH;FMTTYPE=image/png:https://kleurincultuur.com/wp-content/uploads/2025/07/1.-24.png
END:VEVENT
BEGIN:VEVENT
DTSTART;TZID=Europe/Amsterdam:20260128T150000
DTEND;TZID=Europe/Amsterdam:20260128T163000
DTSTAMP:20260420T024245
CREATED:20260106T144111Z
LAST-MODIFIED:20260115T094844Z
UID:10016630-1769612400-1769617800@kleurincultuur.com
SUMMARY:Workshop - Crea
DESCRIPTION:Tijdens deze workshop ga je aan de slag met jouw creativiteit. Met verschillende technieken en materialen ga jij aan het werk en ontdek je de kunstenaar in jezelf! Onder begeleiding van kunstvakdocent Cherique maak jij straks de mooiste creaties. Doe jij ook mee? \nIedere woensdag vanaf 14 januari\nLeeftijd: 6+\nTijd: 15:00 – 16:30\nKosten: gratis\nDeelnemers: max 10
URL:https://kleurincultuur.com/agenda/workshop-crea-5-2/2026-01-28/
LOCATION:De Veldhoek\, Deurnestraat 40 (De Veldhoek)\, Almere\, Flevoland\, 1324 XB\, Nederland
ATTACH;FMTTYPE=image/png:https://kleurincultuur.com/wp-content/uploads/2025/07/1.-24.png
END:VEVENT
BEGIN:VEVENT
DTSTART;TZID=Europe/Amsterdam:20260121T150000
DTEND;TZID=Europe/Amsterdam:20260121T163000
DTSTAMP:20260420T024245
CREATED:20260106T144111Z
LAST-MODIFIED:20260115T094844Z
UID:10016629-1769007600-1769013000@kleurincultuur.com
SUMMARY:Workshop - Crea
DESCRIPTION:Tijdens deze workshop ga je aan de slag met jouw creativiteit. Met verschillende technieken en materialen ga jij aan het werk en ontdek je de kunstenaar in jezelf! Onder begeleiding van kunstvakdocent Cherique maak jij straks de mooiste creaties. Doe jij ook mee? \nIedere woensdag vanaf 14 januari\nLeeftijd: 6+\nTijd: 15:00 – 16:30\nKosten: gratis\nDeelnemers: max 10
URL:https://kleurincultuur.com/agenda/workshop-crea-5-2/2026-01-21/
LOCATION:De Veldhoek\, Deurnestraat 40 (De Veldhoek)\, Almere\, Flevoland\, 1324 XB\, Nederland
ATTACH;FMTTYPE=image/png:https://kleurincultuur.com/wp-content/uploads/2025/07/1.-24.png
END:VEVENT
BEGIN:VEVENT
DTSTART;TZID=Europe/Amsterdam:20260114T150000
DTEND;TZID=Europe/Amsterdam:20260114T163000
DTSTAMP:20260420T024245
CREATED:20260106T144111Z
LAST-MODIFIED:20260115T094844Z
UID:10016628-1768402800-1768408200@kleurincultuur.com
SUMMARY:Workshop - Crea
DESCRIPTION:Tijdens deze workshop ga je aan de slag met jouw creativiteit. Met verschillende technieken en materialen ga jij aan het werk en ontdek je de kunstenaar in jezelf! Onder begeleiding van kunstvakdocent Cherique maak jij straks de mooiste creaties. Doe jij ook mee? \nIedere woensdag vanaf 14 januari\nLeeftijd: 6+\nTijd: 15:00 – 16:30\nKosten: gratis\nDeelnemers: max 10
URL:https://kleurincultuur.com/agenda/workshop-crea-5-2/2026-01-14/
LOCATION:De Veldhoek\, Deurnestraat 40 (De Veldhoek)\, Almere\, Flevoland\, 1324 XB\, Nederland
ATTACH;FMTTYPE=image/png:https://kleurincultuur.com/wp-content/uploads/2025/07/1.-24.png
END:VEVENT
BEGIN:VEVENT
DTSTART;TZID=Europe/Amsterdam:20251217T150000
DTEND;TZID=Europe/Amsterdam:20251217T160000
DTSTAMP:20260420T024245
CREATED:20250724T073939Z
LAST-MODIFIED:20250807T110834Z
UID:10016146-1765983600-1765987200@kleurincultuur.com
SUMMARY:Workshop - Kliederlab 4+
DESCRIPTION:Lekker kliederen en ontdekken! In deze speelse workshop gaan kinderen zelf aan de slag met verf\, schuim\, lijm en andere verrassende materialen. \nLeeftijd: 4+\nLocatie: De Veldhoek\nTijd: 15:00 – 16:00\nKosten: gratis \nWoensdagmiddag:\n27 augustus\n3\, 10\, 17\, 24 september\n1\, 8\, 15\, 29 oktober\n5\, 12\, 19\, 26 november\n3\, 10\, 17 december
URL:https://kleurincultuur.com/agenda/workshop-kliederlab-4-4/2025-12-17/
LOCATION:De Veldhoek\, Deurnestraat 40 (De Veldhoek)\, Almere\, Flevoland\, 1324 XB\, Nederland
ATTACH;FMTTYPE=image/png:https://kleurincultuur.com/wp-content/uploads/2025/07/1.-14.png
END:VEVENT
BEGIN:VEVENT
DTSTART;TZID=Europe/Amsterdam:20251210T150000
DTEND;TZID=Europe/Amsterdam:20251210T160000
DTSTAMP:20260420T024245
CREATED:20250724T073939Z
LAST-MODIFIED:20250807T110834Z
UID:10016145-1765378800-1765382400@kleurincultuur.com
SUMMARY:Workshop - Kliederlab 4+
DESCRIPTION:Lekker kliederen en ontdekken! In deze speelse workshop gaan kinderen zelf aan de slag met verf\, schuim\, lijm en andere verrassende materialen. \nLeeftijd: 4+\nLocatie: De Veldhoek\nTijd: 15:00 – 16:00\nKosten: gratis \nWoensdagmiddag:\n27 augustus\n3\, 10\, 17\, 24 september\n1\, 8\, 15\, 29 oktober\n5\, 12\, 19\, 26 november\n3\, 10\, 17 december
URL:https://kleurincultuur.com/agenda/workshop-kliederlab-4-4/2025-12-10/
LOCATION:De Veldhoek\, Deurnestraat 40 (De Veldhoek)\, Almere\, Flevoland\, 1324 XB\, Nederland
ATTACH;FMTTYPE=image/png:https://kleurincultuur.com/wp-content/uploads/2025/07/1.-14.png
END:VEVENT
BEGIN:VEVENT
DTSTART;TZID=Europe/Amsterdam:20251203T150000
DTEND;TZID=Europe/Amsterdam:20251203T160000
DTSTAMP:20260420T024245
CREATED:20250724T073939Z
LAST-MODIFIED:20250807T110834Z
UID:10016144-1764774000-1764777600@kleurincultuur.com
SUMMARY:Workshop - Kliederlab 4+
DESCRIPTION:Lekker kliederen en ontdekken! In deze speelse workshop gaan kinderen zelf aan de slag met verf\, schuim\, lijm en andere verrassende materialen. \nLeeftijd: 4+\nLocatie: De Veldhoek\nTijd: 15:00 – 16:00\nKosten: gratis \nWoensdagmiddag:\n27 augustus\n3\, 10\, 17\, 24 september\n1\, 8\, 15\, 29 oktober\n5\, 12\, 19\, 26 november\n3\, 10\, 17 december
URL:https://kleurincultuur.com/agenda/workshop-kliederlab-4-4/2025-12-03/
LOCATION:De Veldhoek\, Deurnestraat 40 (De Veldhoek)\, Almere\, Flevoland\, 1324 XB\, Nederland
ATTACH;FMTTYPE=image/png:https://kleurincultuur.com/wp-content/uploads/2025/07/1.-14.png
END:VEVENT
BEGIN:VEVENT
DTSTART;TZID=Europe/Amsterdam:20251126T150000
DTEND;TZID=Europe/Amsterdam:20251126T160000
DTSTAMP:20260420T024245
CREATED:20250724T073939Z
LAST-MODIFIED:20250807T110834Z
UID:10016143-1764169200-1764172800@kleurincultuur.com
SUMMARY:Workshop - Kliederlab 4+
DESCRIPTION:Lekker kliederen en ontdekken! In deze speelse workshop gaan kinderen zelf aan de slag met verf\, schuim\, lijm en andere verrassende materialen. \nLeeftijd: 4+\nLocatie: De Veldhoek\nTijd: 15:00 – 16:00\nKosten: gratis \nWoensdagmiddag:\n27 augustus\n3\, 10\, 17\, 24 september\n1\, 8\, 15\, 29 oktober\n5\, 12\, 19\, 26 november\n3\, 10\, 17 december
URL:https://kleurincultuur.com/agenda/workshop-kliederlab-4-4/2025-11-26/
LOCATION:De Veldhoek\, Deurnestraat 40 (De Veldhoek)\, Almere\, Flevoland\, 1324 XB\, Nederland
ATTACH;FMTTYPE=image/png:https://kleurincultuur.com/wp-content/uploads/2025/07/1.-14.png
END:VEVENT
BEGIN:VEVENT
DTSTART;TZID=Europe/Amsterdam:20251119T150000
DTEND;TZID=Europe/Amsterdam:20251119T160000
DTSTAMP:20260420T024245
CREATED:20250724T073939Z
LAST-MODIFIED:20250807T110834Z
UID:10016142-1763564400-1763568000@kleurincultuur.com
SUMMARY:Workshop - Kliederlab 4+
DESCRIPTION:Lekker kliederen en ontdekken! In deze speelse workshop gaan kinderen zelf aan de slag met verf\, schuim\, lijm en andere verrassende materialen. \nLeeftijd: 4+\nLocatie: De Veldhoek\nTijd: 15:00 – 16:00\nKosten: gratis \nWoensdagmiddag:\n27 augustus\n3\, 10\, 17\, 24 september\n1\, 8\, 15\, 29 oktober\n5\, 12\, 19\, 26 november\n3\, 10\, 17 december
URL:https://kleurincultuur.com/agenda/workshop-kliederlab-4-4/2025-11-19/
LOCATION:De Veldhoek\, Deurnestraat 40 (De Veldhoek)\, Almere\, Flevoland\, 1324 XB\, Nederland
ATTACH;FMTTYPE=image/png:https://kleurincultuur.com/wp-content/uploads/2025/07/1.-14.png
END:VEVENT
BEGIN:VEVENT
DTSTART;TZID=Europe/Amsterdam:20251112T150000
DTEND;TZID=Europe/Amsterdam:20251112T160000
DTSTAMP:20260420T024245
CREATED:20250724T073939Z
LAST-MODIFIED:20250807T110834Z
UID:10016141-1762959600-1762963200@kleurincultuur.com
SUMMARY:Workshop - Kliederlab 4+
DESCRIPTION:Lekker kliederen en ontdekken! In deze speelse workshop gaan kinderen zelf aan de slag met verf\, schuim\, lijm en andere verrassende materialen. \nLeeftijd: 4+\nLocatie: De Veldhoek\nTijd: 15:00 – 16:00\nKosten: gratis \nWoensdagmiddag:\n27 augustus\n3\, 10\, 17\, 24 september\n1\, 8\, 15\, 29 oktober\n5\, 12\, 19\, 26 november\n3\, 10\, 17 december
URL:https://kleurincultuur.com/agenda/workshop-kliederlab-4-4/2025-11-12/
LOCATION:De Veldhoek\, Deurnestraat 40 (De Veldhoek)\, Almere\, Flevoland\, 1324 XB\, Nederland
ATTACH;FMTTYPE=image/png:https://kleurincultuur.com/wp-content/uploads/2025/07/1.-14.png
END:VEVENT
BEGIN:VEVENT
DTSTART;TZID=Europe/Amsterdam:20251105T150000
DTEND;TZID=Europe/Amsterdam:20251105T160000
DTSTAMP:20260420T024245
CREATED:20250724T073939Z
LAST-MODIFIED:20250807T110834Z
UID:10016140-1762354800-1762358400@kleurincultuur.com
SUMMARY:Workshop - Kliederlab 4+
DESCRIPTION:Lekker kliederen en ontdekken! In deze speelse workshop gaan kinderen zelf aan de slag met verf\, schuim\, lijm en andere verrassende materialen. \nLeeftijd: 4+\nLocatie: De Veldhoek\nTijd: 15:00 – 16:00\nKosten: gratis \nWoensdagmiddag:\n27 augustus\n3\, 10\, 17\, 24 september\n1\, 8\, 15\, 29 oktober\n5\, 12\, 19\, 26 november\n3\, 10\, 17 december
URL:https://kleurincultuur.com/agenda/workshop-kliederlab-4-4/2025-11-05/
LOCATION:De Veldhoek\, Deurnestraat 40 (De Veldhoek)\, Almere\, Flevoland\, 1324 XB\, Nederland
ATTACH;FMTTYPE=image/png:https://kleurincultuur.com/wp-content/uploads/2025/07/1.-14.png
END:VEVENT
BEGIN:VEVENT
DTSTART;TZID=Europe/Amsterdam:20251029T150000
DTEND;TZID=Europe/Amsterdam:20251029T160000
DTSTAMP:20260420T024245
CREATED:20250724T073939Z
LAST-MODIFIED:20250807T110834Z
UID:10016139-1761750000-1761753600@kleurincultuur.com
SUMMARY:Workshop - Kliederlab 4+
DESCRIPTION:Lekker kliederen en ontdekken! In deze speelse workshop gaan kinderen zelf aan de slag met verf\, schuim\, lijm en andere verrassende materialen. \nLeeftijd: 4+\nLocatie: De Veldhoek\nTijd: 15:00 – 16:00\nKosten: gratis \nWoensdagmiddag:\n27 augustus\n3\, 10\, 17\, 24 september\n1\, 8\, 15\, 29 oktober\n5\, 12\, 19\, 26 november\n3\, 10\, 17 december
URL:https://kleurincultuur.com/agenda/workshop-kliederlab-4-4/2025-10-29/
LOCATION:De Veldhoek\, Deurnestraat 40 (De Veldhoek)\, Almere\, Flevoland\, 1324 XB\, Nederland
ATTACH;FMTTYPE=image/png:https://kleurincultuur.com/wp-content/uploads/2025/07/1.-14.png
END:VEVENT
BEGIN:VEVENT
DTSTART;TZID=Europe/Amsterdam:20251015T150000
DTEND;TZID=Europe/Amsterdam:20251015T160000
DTSTAMP:20260420T024245
CREATED:20250724T073939Z
LAST-MODIFIED:20250807T110834Z
UID:10016138-1760540400-1760544000@kleurincultuur.com
SUMMARY:Workshop - Kliederlab 4+
DESCRIPTION:Lekker kliederen en ontdekken! In deze speelse workshop gaan kinderen zelf aan de slag met verf\, schuim\, lijm en andere verrassende materialen. \nLeeftijd: 4+\nLocatie: De Veldhoek\nTijd: 15:00 – 16:00\nKosten: gratis \nWoensdagmiddag:\n27 augustus\n3\, 10\, 17\, 24 september\n1\, 8\, 15\, 29 oktober\n5\, 12\, 19\, 26 november\n3\, 10\, 17 december
URL:https://kleurincultuur.com/agenda/workshop-kliederlab-4-4/2025-10-15/
LOCATION:De Veldhoek\, Deurnestraat 40 (De Veldhoek)\, Almere\, Flevoland\, 1324 XB\, Nederland
ATTACH;FMTTYPE=image/png:https://kleurincultuur.com/wp-content/uploads/2025/07/1.-14.png
END:VEVENT
BEGIN:VEVENT
DTSTART;TZID=Europe/Amsterdam:20251008T150000
DTEND;TZID=Europe/Amsterdam:20251008T160000
DTSTAMP:20260420T024245
CREATED:20250724T073939Z
LAST-MODIFIED:20250807T110834Z
UID:10016137-1759935600-1759939200@kleurincultuur.com
SUMMARY:Workshop - Kliederlab 4+
DESCRIPTION:Lekker kliederen en ontdekken! In deze speelse workshop gaan kinderen zelf aan de slag met verf\, schuim\, lijm en andere verrassende materialen. \nLeeftijd: 4+\nLocatie: De Veldhoek\nTijd: 15:00 – 16:00\nKosten: gratis \nWoensdagmiddag:\n27 augustus\n3\, 10\, 17\, 24 september\n1\, 8\, 15\, 29 oktober\n5\, 12\, 19\, 26 november\n3\, 10\, 17 december
URL:https://kleurincultuur.com/agenda/workshop-kliederlab-4-4/2025-10-08/
LOCATION:De Veldhoek\, Deurnestraat 40 (De Veldhoek)\, Almere\, Flevoland\, 1324 XB\, Nederland
ATTACH;FMTTYPE=image/png:https://kleurincultuur.com/wp-content/uploads/2025/07/1.-14.png
END:VEVENT
BEGIN:VEVENT
DTSTART;TZID=Europe/Amsterdam:20251001T150000
DTEND;TZID=Europe/Amsterdam:20251001T160000
DTSTAMP:20260420T024245
CREATED:20250724T073939Z
LAST-MODIFIED:20250807T110834Z
UID:10016136-1759330800-1759334400@kleurincultuur.com
SUMMARY:Workshop - Kliederlab 4+
DESCRIPTION:Lekker kliederen en ontdekken! In deze speelse workshop gaan kinderen zelf aan de slag met verf\, schuim\, lijm en andere verrassende materialen. \nLeeftijd: 4+\nLocatie: De Veldhoek\nTijd: 15:00 – 16:00\nKosten: gratis \nWoensdagmiddag:\n27 augustus\n3\, 10\, 17\, 24 september\n1\, 8\, 15\, 29 oktober\n5\, 12\, 19\, 26 november\n3\, 10\, 17 december
URL:https://kleurincultuur.com/agenda/workshop-kliederlab-4-4/2025-10-01/
LOCATION:De Veldhoek\, Deurnestraat 40 (De Veldhoek)\, Almere\, Flevoland\, 1324 XB\, Nederland
ATTACH;FMTTYPE=image/png:https://kleurincultuur.com/wp-content/uploads/2025/07/1.-14.png
END:VEVENT
BEGIN:VEVENT
DTSTART;TZID=Europe/Amsterdam:20250924T150000
DTEND;TZID=Europe/Amsterdam:20250924T160000
DTSTAMP:20260420T024245
CREATED:20250724T073939Z
LAST-MODIFIED:20250807T110834Z
UID:10016135-1758726000-1758729600@kleurincultuur.com
SUMMARY:Workshop - Kliederlab 4+
DESCRIPTION:Lekker kliederen en ontdekken! In deze speelse workshop gaan kinderen zelf aan de slag met verf\, schuim\, lijm en andere verrassende materialen. \nLeeftijd: 4+\nLocatie: De Veldhoek\nTijd: 15:00 – 16:00\nKosten: gratis \nWoensdagmiddag:\n27 augustus\n3\, 10\, 17\, 24 september\n1\, 8\, 15\, 29 oktober\n5\, 12\, 19\, 26 november\n3\, 10\, 17 december
URL:https://kleurincultuur.com/agenda/workshop-kliederlab-4-4/2025-09-24/
LOCATION:De Veldhoek\, Deurnestraat 40 (De Veldhoek)\, Almere\, Flevoland\, 1324 XB\, Nederland
ATTACH;FMTTYPE=image/png:https://kleurincultuur.com/wp-content/uploads/2025/07/1.-14.png
END:VEVENT
BEGIN:VEVENT
DTSTART;TZID=Europe/Amsterdam:20250917T150000
DTEND;TZID=Europe/Amsterdam:20250917T160000
DTSTAMP:20260420T024245
CREATED:20250724T073939Z
LAST-MODIFIED:20250807T110834Z
UID:10016134-1758121200-1758124800@kleurincultuur.com
SUMMARY:Workshop - Kliederlab 4+
DESCRIPTION:Lekker kliederen en ontdekken! In deze speelse workshop gaan kinderen zelf aan de slag met verf\, schuim\, lijm en andere verrassende materialen. \nLeeftijd: 4+\nLocatie: De Veldhoek\nTijd: 15:00 – 16:00\nKosten: gratis \nWoensdagmiddag:\n27 augustus\n3\, 10\, 17\, 24 september\n1\, 8\, 15\, 29 oktober\n5\, 12\, 19\, 26 november\n3\, 10\, 17 december
URL:https://kleurincultuur.com/agenda/workshop-kliederlab-4-4/2025-09-17/
LOCATION:De Veldhoek\, Deurnestraat 40 (De Veldhoek)\, Almere\, Flevoland\, 1324 XB\, Nederland
ATTACH;FMTTYPE=image/png:https://kleurincultuur.com/wp-content/uploads/2025/07/1.-14.png
END:VEVENT
BEGIN:VEVENT
DTSTART;TZID=Europe/Amsterdam:20250910T150000
DTEND;TZID=Europe/Amsterdam:20250910T160000
DTSTAMP:20260420T024245
CREATED:20250724T073939Z
LAST-MODIFIED:20250807T110834Z
UID:10016133-1757516400-1757520000@kleurincultuur.com
SUMMARY:Workshop - Kliederlab 4+
DESCRIPTION:Lekker kliederen en ontdekken! In deze speelse workshop gaan kinderen zelf aan de slag met verf\, schuim\, lijm en andere verrassende materialen. \nLeeftijd: 4+\nLocatie: De Veldhoek\nTijd: 15:00 – 16:00\nKosten: gratis \nWoensdagmiddag:\n27 augustus\n3\, 10\, 17\, 24 september\n1\, 8\, 15\, 29 oktober\n5\, 12\, 19\, 26 november\n3\, 10\, 17 december
URL:https://kleurincultuur.com/agenda/workshop-kliederlab-4-4/2025-09-10/
LOCATION:De Veldhoek\, Deurnestraat 40 (De Veldhoek)\, Almere\, Flevoland\, 1324 XB\, Nederland
ATTACH;FMTTYPE=image/png:https://kleurincultuur.com/wp-content/uploads/2025/07/1.-14.png
END:VEVENT
BEGIN:VEVENT
DTSTART;TZID=Europe/Amsterdam:20250903T150000
DTEND;TZID=Europe/Amsterdam:20250903T160000
DTSTAMP:20260420T024245
CREATED:20250724T073939Z
LAST-MODIFIED:20250807T110834Z
UID:10016132-1756911600-1756915200@kleurincultuur.com
SUMMARY:Workshop - Kliederlab 4+
DESCRIPTION:Lekker kliederen en ontdekken! In deze speelse workshop gaan kinderen zelf aan de slag met verf\, schuim\, lijm en andere verrassende materialen. \nLeeftijd: 4+\nLocatie: De Veldhoek\nTijd: 15:00 – 16:00\nKosten: gratis \nWoensdagmiddag:\n27 augustus\n3\, 10\, 17\, 24 september\n1\, 8\, 15\, 29 oktober\n5\, 12\, 19\, 26 november\n3\, 10\, 17 december
URL:https://kleurincultuur.com/agenda/workshop-kliederlab-4-4/2025-09-03/
LOCATION:De Veldhoek\, Deurnestraat 40 (De Veldhoek)\, Almere\, Flevoland\, 1324 XB\, Nederland
ATTACH;FMTTYPE=image/png:https://kleurincultuur.com/wp-content/uploads/2025/07/1.-14.png
END:VEVENT
BEGIN:VEVENT
DTSTART;TZID=Europe/Amsterdam:20250827T150000
DTEND;TZID=Europe/Amsterdam:20250827T160000
DTSTAMP:20260420T024245
CREATED:20250724T073939Z
LAST-MODIFIED:20250807T110834Z
UID:10016131-1756306800-1756310400@kleurincultuur.com
SUMMARY:Workshop - Kliederlab 4+
DESCRIPTION:Lekker kliederen en ontdekken! In deze speelse workshop gaan kinderen zelf aan de slag met verf\, schuim\, lijm en andere verrassende materialen. \nLeeftijd: 4+\nLocatie: De Veldhoek\nTijd: 15:00 – 16:00\nKosten: gratis \nWoensdagmiddag:\n27 augustus\n3\, 10\, 17\, 24 september\n1\, 8\, 15\, 29 oktober\n5\, 12\, 19\, 26 november\n3\, 10\, 17 december
URL:https://kleurincultuur.com/agenda/workshop-kliederlab-4-4/2025-08-27/
LOCATION:De Veldhoek\, Deurnestraat 40 (De Veldhoek)\, Almere\, Flevoland\, 1324 XB\, Nederland
ATTACH;FMTTYPE=image/png:https://kleurincultuur.com/wp-content/uploads/2025/07/1.-14.png
END:VEVENT
BEGIN:VEVENT
DTSTART;TZID=Europe/Amsterdam:20250625T150000
DTEND;TZID=Europe/Amsterdam:20250625T160000
DTSTAMP:20260420T024245
CREATED:20250108T093208Z
LAST-MODIFIED:20250108T121607Z
UID:10014215-1750863600-1750867200@kleurincultuur.com
SUMMARY:Workshop - Kliederlab 4+
DESCRIPTION:
URL:https://kleurincultuur.com/agenda/workshop-kliederlab-4-3/2025-06-25/
LOCATION:De Veldhoek\, Deurnestraat 40 (De Veldhoek)\, Almere\, Flevoland\, 1324 XB\, Nederland
END:VEVENT
BEGIN:VEVENT
DTSTART;TZID=Europe/Amsterdam:20250618T150000
DTEND;TZID=Europe/Amsterdam:20250618T160000
DTSTAMP:20260420T024245
CREATED:20250108T093208Z
LAST-MODIFIED:20250108T121607Z
UID:10014214-1750258800-1750262400@kleurincultuur.com
SUMMARY:Workshop - Kliederlab 4+
DESCRIPTION:
URL:https://kleurincultuur.com/agenda/workshop-kliederlab-4-3/2025-06-18/
LOCATION:De Veldhoek\, Deurnestraat 40 (De Veldhoek)\, Almere\, Flevoland\, 1324 XB\, Nederland
END:VEVENT
BEGIN:VEVENT
DTSTART;TZID=Europe/Amsterdam:20250611T150000
DTEND;TZID=Europe/Amsterdam:20250611T160000
DTSTAMP:20260420T024245
CREATED:20250108T093208Z
LAST-MODIFIED:20250108T121607Z
UID:10014213-1749654000-1749657600@kleurincultuur.com
SUMMARY:Workshop - Kliederlab 4+
DESCRIPTION:
URL:https://kleurincultuur.com/agenda/workshop-kliederlab-4-3/2025-06-11/
LOCATION:De Veldhoek\, Deurnestraat 40 (De Veldhoek)\, Almere\, Flevoland\, 1324 XB\, Nederland
END:VEVENT
END:VCALENDAR