BEGIN:VCALENDAR
VERSION:2.0
PRODID:-//Stichting Kleur in Cultuur - ECPv6.15.20//NONSGML v1.0//EN
CALSCALE:GREGORIAN
METHOD:PUBLISH
X-ORIGINAL-URL:https://kleurincultuur.com
X-WR-CALDESC:Evenementen voor Stichting Kleur in Cultuur
REFRESH-INTERVAL;VALUE=DURATION:PT1H
X-Robots-Tag:noindex
X-PUBLISHED-TTL:PT1H
BEGIN:VTIMEZONE
TZID:Europe/Amsterdam
BEGIN:DAYLIGHT
TZOFFSETFROM:+0100
TZOFFSETTO:+0200
TZNAME:CEST
DTSTART:20250330T010000
END:DAYLIGHT
BEGIN:STANDARD
TZOFFSETFROM:+0200
TZOFFSETTO:+0100
TZNAME:CET
DTSTART:20251026T010000
END:STANDARD
BEGIN:DAYLIGHT
TZOFFSETFROM:+0100
TZOFFSETTO:+0200
TZNAME:CEST
DTSTART:20260329T010000
END:DAYLIGHT
BEGIN:STANDARD
TZOFFSETFROM:+0200
TZOFFSETTO:+0100
TZNAME:CET
DTSTART:20261025T010000
END:STANDARD
BEGIN:DAYLIGHT
TZOFFSETFROM:+0100
TZOFFSETTO:+0200
TZNAME:CEST
DTSTART:20270328T010000
END:DAYLIGHT
BEGIN:STANDARD
TZOFFSETFROM:+0200
TZOFFSETTO:+0100
TZNAME:CET
DTSTART:20271031T010000
END:STANDARD
END:VTIMEZONE
BEGIN:VEVENT
DTSTART;TZID=Europe/Amsterdam:20260327T143000
DTEND;TZID=Europe/Amsterdam:20260327T163000
DTSTAMP:20260420T004054
CREATED:20260317T090625Z
LAST-MODIFIED:20260317T090625Z
UID:10016764-1774621800-1774629000@kleurincultuur.com
SUMMARY:Workshop - Week Van Het Geld
DESCRIPTION:Kom langs bij een gezellige en informatieve middag in de Glasbak. Gezinnen kunnen hier op een laagdrempelige manier kennismaken met geldzaken en het lokale aanbod in de wijk. \nKunstdocent Cherique is aanwezig met een leuke creatieve workshop voor kinderen\, passend bij het thema. Kom langs\, doe mee en ontdek samen spelenderwijs meer over geld! \nLeeftijd: 9 t/m 12\nLocatie: De Glasbak\nTijd: 14:30 – 16:30\nKosten: gratis\nAanmelden: vrije inloop
URL:https://kleurincultuur.com/agenda/workshop-week-van-het-geld/
LOCATION:De Glasbak\, Lierstraat 21\, Almere\, 1312 JZ
ATTACH;FMTTYPE=image/jpeg:https://kleurincultuur.com/wp-content/uploads/2026/03/wvhg2026-social-1080x1350-vombo.jpg
END:VEVENT
END:VCALENDAR