BEGIN:VCALENDAR
VERSION:2.0
PRODID:-//Stichting Kleur in Cultuur - ECPv6.15.20//NONSGML v1.0//EN
CALSCALE:GREGORIAN
METHOD:PUBLISH
X-WR-CALNAME:Stichting Kleur in Cultuur
X-ORIGINAL-URL:https://kleurincultuur.com
X-WR-CALDESC:Evenementen voor Stichting Kleur in Cultuur
REFRESH-INTERVAL;VALUE=DURATION:PT1H
X-Robots-Tag:noindex
X-PUBLISHED-TTL:PT1H
BEGIN:VTIMEZONE
TZID:Europe/Amsterdam
BEGIN:DAYLIGHT
TZOFFSETFROM:+0100
TZOFFSETTO:+0200
TZNAME:CEST
DTSTART:20250330T010000
END:DAYLIGHT
BEGIN:STANDARD
TZOFFSETFROM:+0200
TZOFFSETTO:+0100
TZNAME:CET
DTSTART:20251026T010000
END:STANDARD
BEGIN:DAYLIGHT
TZOFFSETFROM:+0100
TZOFFSETTO:+0200
TZNAME:CEST
DTSTART:20260329T010000
END:DAYLIGHT
BEGIN:STANDARD
TZOFFSETFROM:+0200
TZOFFSETTO:+0100
TZNAME:CET
DTSTART:20261025T010000
END:STANDARD
BEGIN:DAYLIGHT
TZOFFSETFROM:+0100
TZOFFSETTO:+0200
TZNAME:CEST
DTSTART:20270328T010000
END:DAYLIGHT
BEGIN:STANDARD
TZOFFSETFROM:+0200
TZOFFSETTO:+0100
TZNAME:CET
DTSTART:20271031T010000
END:STANDARD
END:VTIMEZONE
BEGIN:VEVENT
DTSTART;TZID=Europe/Amsterdam:20260422T091500
DTEND;TZID=Europe/Amsterdam:20260422T101500
DTSTAMP:20260419T230413
CREATED:20260324T093007Z
LAST-MODIFIED:20260324T093007Z
UID:10016778-1776849300-1776852900@kleurincultuur.com
SUMMARY:Workshop - Peuterlab
DESCRIPTION:In deze creatieve workshop kunnen peuters samen ontdekken\, voelen en maken. Met verschillende materialen en technieken ontstaat stap voor stap een eigen kunstwerk. Spelenderwijs\, vol kleur en plezier. \n\nLeeftijd: 2 t/m 4\nLocatie: Archipel\nTijd: 09:15 – 10:15\nKosten: €2\,- per keer\nAanmelden: via Gwen\, gclaasz@deschoor.nl \n\n\nWoensdagmiddag:\n1\, 8\, 15\, 22 april\n13 mei
URL:https://kleurincultuur.com/agenda/workshop-peuterlab-3/2026-04-22/
LOCATION:Maldivenweg 45 (OBS De Archipel)\, Maldivenweg 45 (OBS De Archipel)\, Almere\, Regenboogbuurt\, 1339 PP
ATTACH;FMTTYPE=image/png:https://kleurincultuur.com/wp-content/uploads/2025/08/1.-24.png
END:VEVENT
BEGIN:VEVENT
DTSTART;TZID=Europe/Amsterdam:20260423T153000
DTEND;TZID=Europe/Amsterdam:20260423T163000
DTSTAMP:20260419T230413
CREATED:20260113T093014Z
LAST-MODIFIED:20260113T093014Z
UID:10016654-1776958200-1776961800@kleurincultuur.com
SUMMARY:Workshop - Crea
DESCRIPTION:In deze creatieve workshop ga je experimenteren met allerlei materialen en technieken. Stap voor stap ontdek je nieuwe mogelijkheden en maak je je eigen unieke kunstwerk. Onder begeleiding van kunstvakdocent Monique tover jij jouw ideeën om tot iets moois. Doe je mee? \nLeeftijd: 4 t/m 7\nLocatie: OBS de Archipel\, Maldivenweg 45\nTijd: 15:30 – 16:30\nKosten: €1\,- per keer\nAanmelden: via Gwen\, gclaasz@deschoor.nl \nDonderdagmiddag:\n22 januari\n5\, 19 februari\n12\, 26 maart\n9\, 23 april\n21 mei\n4\, 18 juni
URL:https://kleurincultuur.com/agenda/workshop-crea-11/2026-04-23/
LOCATION:Maldivenweg 45 (OBS De Archipel)\, Maldivenweg 45 (OBS De Archipel)\, Almere\, Regenboogbuurt\, 1339 PP
ATTACH;FMTTYPE=image/png:https://kleurincultuur.com/wp-content/uploads/2026/01/1.-73.png
END:VEVENT
BEGIN:VEVENT
DTSTART;TZID=Europe/Amsterdam:20260507T153000
DTEND;TZID=Europe/Amsterdam:20260507T163000
DTSTAMP:20260419T230413
CREATED:20260113T131424Z
LAST-MODIFIED:20260113T131424Z
UID:10016670-1778167800-1778171400@kleurincultuur.com
SUMMARY:Workshop - Crea
DESCRIPTION:Tijdens deze creatieve workshop ga je experimenteren met allerlei materialen en technieken. Stap voor stap ontdek je nieuwe mogelijkheden en maak je je eigen unieke kunstwerk. Onder begeleiding van kunstvakdocent Monique tover jij jouw ideeën om tot iets moois. Doe je mee? \nLeeftijd: 8 t/12\nLocatie: OBS de Archipel\, Maldivenweg 45\nTijd: 15:30 – 16:30\nKosten: €1\,- per keer\nAanmelden: via Gwen\, gclaasz@deschoor.nl \nDonderdagmiddag:\n29 januari\n12 februari\n5\, 19 maart\n2\, 16 april\n7\, 28 mei\n11\, 25 juni
URL:https://kleurincultuur.com/agenda/workshop-crea-12/2026-05-07/
LOCATION:Maldivenweg 45 (OBS De Archipel)\, Maldivenweg 45 (OBS De Archipel)\, Almere\, Regenboogbuurt\, 1339 PP
ATTACH;FMTTYPE=image/png:https://kleurincultuur.com/wp-content/uploads/2025/10/1.-56.png
END:VEVENT
BEGIN:VEVENT
DTSTART;TZID=Europe/Amsterdam:20260513T091500
DTEND;TZID=Europe/Amsterdam:20260513T101500
DTSTAMP:20260419T230413
CREATED:20260324T093007Z
LAST-MODIFIED:20260324T093007Z
UID:10016779-1778663700-1778667300@kleurincultuur.com
SUMMARY:Workshop - Peuterlab
DESCRIPTION:In deze creatieve workshop kunnen peuters samen ontdekken\, voelen en maken. Met verschillende materialen en technieken ontstaat stap voor stap een eigen kunstwerk. Spelenderwijs\, vol kleur en plezier. \n\nLeeftijd: 2 t/m 4\nLocatie: Archipel\nTijd: 09:15 – 10:15\nKosten: €2\,- per keer\nAanmelden: via Gwen\, gclaasz@deschoor.nl \n\n\nWoensdagmiddag:\n1\, 8\, 15\, 22 april\n13 mei
URL:https://kleurincultuur.com/agenda/workshop-peuterlab-3/2026-05-13/
LOCATION:Maldivenweg 45 (OBS De Archipel)\, Maldivenweg 45 (OBS De Archipel)\, Almere\, Regenboogbuurt\, 1339 PP
ATTACH;FMTTYPE=image/png:https://kleurincultuur.com/wp-content/uploads/2025/08/1.-24.png
END:VEVENT
BEGIN:VEVENT
DTSTART;TZID=Europe/Amsterdam:20260521T153000
DTEND;TZID=Europe/Amsterdam:20260521T163000
DTSTAMP:20260419T230413
CREATED:20260113T093014Z
LAST-MODIFIED:20260113T093014Z
UID:10016655-1779377400-1779381000@kleurincultuur.com
SUMMARY:Workshop - Crea
DESCRIPTION:In deze creatieve workshop ga je experimenteren met allerlei materialen en technieken. Stap voor stap ontdek je nieuwe mogelijkheden en maak je je eigen unieke kunstwerk. Onder begeleiding van kunstvakdocent Monique tover jij jouw ideeën om tot iets moois. Doe je mee? \nLeeftijd: 4 t/m 7\nLocatie: OBS de Archipel\, Maldivenweg 45\nTijd: 15:30 – 16:30\nKosten: €1\,- per keer\nAanmelden: via Gwen\, gclaasz@deschoor.nl \nDonderdagmiddag:\n22 januari\n5\, 19 februari\n12\, 26 maart\n9\, 23 april\n21 mei\n4\, 18 juni
URL:https://kleurincultuur.com/agenda/workshop-crea-11/2026-05-21/
LOCATION:Maldivenweg 45 (OBS De Archipel)\, Maldivenweg 45 (OBS De Archipel)\, Almere\, Regenboogbuurt\, 1339 PP
ATTACH;FMTTYPE=image/png:https://kleurincultuur.com/wp-content/uploads/2026/01/1.-73.png
END:VEVENT
BEGIN:VEVENT
DTSTART;TZID=Europe/Amsterdam:20260528T153000
DTEND;TZID=Europe/Amsterdam:20260528T163000
DTSTAMP:20260419T230413
CREATED:20260113T131424Z
LAST-MODIFIED:20260113T131424Z
UID:10016671-1779982200-1779985800@kleurincultuur.com
SUMMARY:Workshop - Crea
DESCRIPTION:Tijdens deze creatieve workshop ga je experimenteren met allerlei materialen en technieken. Stap voor stap ontdek je nieuwe mogelijkheden en maak je je eigen unieke kunstwerk. Onder begeleiding van kunstvakdocent Monique tover jij jouw ideeën om tot iets moois. Doe je mee? \nLeeftijd: 8 t/12\nLocatie: OBS de Archipel\, Maldivenweg 45\nTijd: 15:30 – 16:30\nKosten: €1\,- per keer\nAanmelden: via Gwen\, gclaasz@deschoor.nl \nDonderdagmiddag:\n29 januari\n12 februari\n5\, 19 maart\n2\, 16 april\n7\, 28 mei\n11\, 25 juni
URL:https://kleurincultuur.com/agenda/workshop-crea-12/2026-05-28/
LOCATION:Maldivenweg 45 (OBS De Archipel)\, Maldivenweg 45 (OBS De Archipel)\, Almere\, Regenboogbuurt\, 1339 PP
ATTACH;FMTTYPE=image/png:https://kleurincultuur.com/wp-content/uploads/2025/10/1.-56.png
END:VEVENT
BEGIN:VEVENT
DTSTART;TZID=Europe/Amsterdam:20260604T153000
DTEND;TZID=Europe/Amsterdam:20260604T163000
DTSTAMP:20260419T230413
CREATED:20260113T093014Z
LAST-MODIFIED:20260113T093014Z
UID:10016656-1780587000-1780590600@kleurincultuur.com
SUMMARY:Workshop - Crea
DESCRIPTION:In deze creatieve workshop ga je experimenteren met allerlei materialen en technieken. Stap voor stap ontdek je nieuwe mogelijkheden en maak je je eigen unieke kunstwerk. Onder begeleiding van kunstvakdocent Monique tover jij jouw ideeën om tot iets moois. Doe je mee? \nLeeftijd: 4 t/m 7\nLocatie: OBS de Archipel\, Maldivenweg 45\nTijd: 15:30 – 16:30\nKosten: €1\,- per keer\nAanmelden: via Gwen\, gclaasz@deschoor.nl \nDonderdagmiddag:\n22 januari\n5\, 19 februari\n12\, 26 maart\n9\, 23 april\n21 mei\n4\, 18 juni
URL:https://kleurincultuur.com/agenda/workshop-crea-11/2026-06-04/
LOCATION:Maldivenweg 45 (OBS De Archipel)\, Maldivenweg 45 (OBS De Archipel)\, Almere\, Regenboogbuurt\, 1339 PP
ATTACH;FMTTYPE=image/png:https://kleurincultuur.com/wp-content/uploads/2026/01/1.-73.png
END:VEVENT
BEGIN:VEVENT
DTSTART;TZID=Europe/Amsterdam:20260611T153000
DTEND;TZID=Europe/Amsterdam:20260611T163000
DTSTAMP:20260419T230413
CREATED:20260113T131424Z
LAST-MODIFIED:20260113T131424Z
UID:10016672-1781191800-1781195400@kleurincultuur.com
SUMMARY:Workshop - Crea
DESCRIPTION:Tijdens deze creatieve workshop ga je experimenteren met allerlei materialen en technieken. Stap voor stap ontdek je nieuwe mogelijkheden en maak je je eigen unieke kunstwerk. Onder begeleiding van kunstvakdocent Monique tover jij jouw ideeën om tot iets moois. Doe je mee? \nLeeftijd: 8 t/12\nLocatie: OBS de Archipel\, Maldivenweg 45\nTijd: 15:30 – 16:30\nKosten: €1\,- per keer\nAanmelden: via Gwen\, gclaasz@deschoor.nl \nDonderdagmiddag:\n29 januari\n12 februari\n5\, 19 maart\n2\, 16 april\n7\, 28 mei\n11\, 25 juni
URL:https://kleurincultuur.com/agenda/workshop-crea-12/2026-06-11/
LOCATION:Maldivenweg 45 (OBS De Archipel)\, Maldivenweg 45 (OBS De Archipel)\, Almere\, Regenboogbuurt\, 1339 PP
ATTACH;FMTTYPE=image/png:https://kleurincultuur.com/wp-content/uploads/2025/10/1.-56.png
END:VEVENT
BEGIN:VEVENT
DTSTART;TZID=Europe/Amsterdam:20260618T153000
DTEND;TZID=Europe/Amsterdam:20260618T163000
DTSTAMP:20260419T230413
CREATED:20260113T093014Z
LAST-MODIFIED:20260113T093014Z
UID:10016657-1781796600-1781800200@kleurincultuur.com
SUMMARY:Workshop - Crea
DESCRIPTION:In deze creatieve workshop ga je experimenteren met allerlei materialen en technieken. Stap voor stap ontdek je nieuwe mogelijkheden en maak je je eigen unieke kunstwerk. Onder begeleiding van kunstvakdocent Monique tover jij jouw ideeën om tot iets moois. Doe je mee? \nLeeftijd: 4 t/m 7\nLocatie: OBS de Archipel\, Maldivenweg 45\nTijd: 15:30 – 16:30\nKosten: €1\,- per keer\nAanmelden: via Gwen\, gclaasz@deschoor.nl \nDonderdagmiddag:\n22 januari\n5\, 19 februari\n12\, 26 maart\n9\, 23 april\n21 mei\n4\, 18 juni
URL:https://kleurincultuur.com/agenda/workshop-crea-11/2026-06-18/
LOCATION:Maldivenweg 45 (OBS De Archipel)\, Maldivenweg 45 (OBS De Archipel)\, Almere\, Regenboogbuurt\, 1339 PP
ATTACH;FMTTYPE=image/png:https://kleurincultuur.com/wp-content/uploads/2026/01/1.-73.png
END:VEVENT
BEGIN:VEVENT
DTSTART;TZID=Europe/Amsterdam:20260625T153000
DTEND;TZID=Europe/Amsterdam:20260625T163000
DTSTAMP:20260419T230413
CREATED:20260113T131424Z
LAST-MODIFIED:20260113T131424Z
UID:10016673-1782401400-1782405000@kleurincultuur.com
SUMMARY:Workshop - Crea
DESCRIPTION:Tijdens deze creatieve workshop ga je experimenteren met allerlei materialen en technieken. Stap voor stap ontdek je nieuwe mogelijkheden en maak je je eigen unieke kunstwerk. Onder begeleiding van kunstvakdocent Monique tover jij jouw ideeën om tot iets moois. Doe je mee? \nLeeftijd: 8 t/12\nLocatie: OBS de Archipel\, Maldivenweg 45\nTijd: 15:30 – 16:30\nKosten: €1\,- per keer\nAanmelden: via Gwen\, gclaasz@deschoor.nl \nDonderdagmiddag:\n29 januari\n12 februari\n5\, 19 maart\n2\, 16 april\n7\, 28 mei\n11\, 25 juni
URL:https://kleurincultuur.com/agenda/workshop-crea-12/2026-06-25/
LOCATION:Maldivenweg 45 (OBS De Archipel)\, Maldivenweg 45 (OBS De Archipel)\, Almere\, Regenboogbuurt\, 1339 PP
ATTACH;FMTTYPE=image/png:https://kleurincultuur.com/wp-content/uploads/2025/10/1.-56.png
END:VEVENT
END:VCALENDAR